BEGIN:VCALENDAR
VERSION:2.0
PRODID:-//eventon.com NONSGML v1.0//EN
CALSCALE:GREGORIAN
METHOD:PUBLISH
BEGIN:VEVENT
UID:69e9f37aae3ff
DTSTAMP:20260423T102458Z
DTSTART:20250712T150000Z
DTEND:20250712T213000Z
LOCATION:
SUMMARY:Note in cascina 2025 - Terzo appuntamento
DESCRIPTION:Molecole d'Acqua APS con il supporto della Camera di Commercio 
 di Torino presenta il terzo appuntamento di Note in Cascina 2025. Si inizia
  alle ore 17\, 00&nbsp;con “La cucina degli avanzi” incontro laboratori
 o con Francesca Molon dell’Agripasticceria Dolcemente contorta\,  che spi
 egherà l’immoralità dello spreco ed insegnerà il rispetto sempre dovut
 o al[..]\nhttps://molecoledacqua.org/events/note-in-cascina-2025-terzo-appu
 ntamento/
URL:https://molecoledacqua.org/events/note-in-cascina-2025-terzo-appuntamento/
END:VEVENT
END:VCALENDAR