BEGIN:VCALENDAR
VERSION:2.0
PRODID:-//eventon.com NONSGML v1.0//EN
CALSCALE:GREGORIAN
METHOD:PUBLISH
BEGIN:VEVENT
UID:69e9ef71834c9
DTSTAMP:20260423T100745Z
DTSTART:20250928T140000Z
DTEND:20250928T150000Z
LOCATION:
SUMMARY:Festa dello sport - Le penne dell'Orco
DESCRIPTION:In occasione della festa dello sport e delle circoscrizioni in 
 mostra la compagnia teatrale la Vecchia Soffitta presenterà lo spettacolo 
 "Le penne dell'Orco".\nhttps://molecoledacqua.org/events/le-penne-dellorco/
URL:https://molecoledacqua.org/events/le-penne-dellorco/
END:VEVENT
END:VCALENDAR